BEGIN:VCALENDAR
VERSION:2.0
PRODID:-//Guarneri Hall - ECPv6.15.20//NONSGML v1.0//EN
CALSCALE:GREGORIAN
METHOD:PUBLISH
X-WR-CALNAME:Guarneri Hall
X-ORIGINAL-URL:https://guarnerihall.org
X-WR-CALDESC:Events for Guarneri Hall
REFRESH-INTERVAL;VALUE=DURATION:PT1H
X-Robots-Tag:noindex
X-PUBLISHED-TTL:PT1H
BEGIN:VTIMEZONE
TZID:America/Chicago
BEGIN:DAYLIGHT
TZOFFSETFROM:-0600
TZOFFSETTO:-0500
TZNAME:CDT
DTSTART:20240310T080000
END:DAYLIGHT
BEGIN:STANDARD
TZOFFSETFROM:-0500
TZOFFSETTO:-0600
TZNAME:CST
DTSTART:20241103T070000
END:STANDARD
BEGIN:DAYLIGHT
TZOFFSETFROM:-0600
TZOFFSETTO:-0500
TZNAME:CDT
DTSTART:20250309T080000
END:DAYLIGHT
BEGIN:STANDARD
TZOFFSETFROM:-0500
TZOFFSETTO:-0600
TZNAME:CST
DTSTART:20251102T070000
END:STANDARD
BEGIN:DAYLIGHT
TZOFFSETFROM:-0600
TZOFFSETTO:-0500
TZNAME:CDT
DTSTART:20260308T080000
END:DAYLIGHT
BEGIN:STANDARD
TZOFFSETFROM:-0500
TZOFFSETTO:-0600
TZNAME:CST
DTSTART:20261101T070000
END:STANDARD
END:VTIMEZONE
BEGIN:VEVENT
DTSTART;TZID=America/Chicago:20251203T183000
DTEND;TZID=America/Chicago:20251203T200000
DTSTAMP:20260421T041110
CREATED:20250604T193906Z
LAST-MODIFIED:20251129T191633Z
UID:54415-1764786600-1764792000@guarnerihall.org
SUMMARY:Against All Odds
DESCRIPTION:Grammy Award-winning Catalyst Quartet\, praised by the NYT for their “invariably energetic and finely burnished” performances\, presents Against All Odds — a stirring exploration of resilience\, identity\, and hope. The program traverses centuries and cultures and features two Nova Linea Musica commissions: world premieres by Andrea Casarrubios (Unsaying) and Derrick Skye (Flare and Answer)\, alongside works by Jessie Montgomery\, Aftab Darvishi\, Jorge Amado Molina\, and Coleridge-Taylor Perkinson. Also included are John Adams’ vibrant Fellow Traveler and a new arrangement of Sor Juana Inés de la Cruz’s Madre la de los primores. Performed by Karla Donehew Perez\, Abi Fayette\, Paul Laraia\, and Karlos Rodriguez\, this concert celebrates bold voices and transformative artistry \n\n\n\nPre-concert discussion with Derrick Skye\, Andrea Casarrubios\, and Doyle Armbrust at 5:45 PM \n\n\n\nNova Linea Musica serves as a catalyst for the creation and promotion of new music through commissions\, live performances\, and the creation of exceptional audio and video recordings featuring dynamic emerging and established performers. \n\n\n\nProgram\n\n\n\nJohn Adams: Fellow TravelerSor Juana Inés de La Cruz: Madre la de los primoresAftab Darvishi: Daughters of SolJorge Amando Molina: Tríptico CubanoDerrick Skye: Flare and Answer (Nova Linea Musica Commission for string quartet and World Premiere)Andrea Casarrubios: Unsaying (Nova Linea Musica Commission for string quartet and World Premiere)Jessie Montgomery: BuildColeridge-Taylor Perkinson: String Quartet No. 1\, “Cavalry” \n\n\n\nArtists: Catalyst Quartet (Karla Donehew Perez\, violin; Abi Fayette\, violin; Paul Laraia\, viola; Karlos Rodriguez\, cello) \n\n\n\n\n\nGuarneri Hall is committed to ensuring that all our programs and activities are accessible to all audience members. Please see Accessibility at Guarneri Hall for more details\, including a short video explaining how to get to the hall.  \n\n\n\nVisit our FAQ page for general information about events.
URL:https://guarnerihall.org/event/against-all-odds/
LOCATION:Guarneri Hall\, 11 East Adams\, 3rd Floor\, Chicago\, IL\, 60603\, United States
CATEGORIES:Concert,Guest Presenter
ATTACH;FMTTYPE=image/jpeg:https://guarnerihall.org/wp-content/uploads/Catalyst-String-Quartet.jpg
GEO:41.8793287;-87.6271441
X-APPLE-STRUCTURED-LOCATION;VALUE=URI;X-ADDRESS=Guarneri Hall 11 East Adams 3rd Floor Chicago IL 60603 United States;X-APPLE-RADIUS=500;X-TITLE=11 East Adams\, 3rd Floor:geo:-87.6271441,41.8793287
END:VEVENT
END:VCALENDAR