BEGIN:VCALENDAR
VERSION:2.0
PRODID:-//Guarneri Hall - ECPv6.15.20//NONSGML v1.0//EN
CALSCALE:GREGORIAN
METHOD:PUBLISH
X-WR-CALNAME:Guarneri Hall
X-ORIGINAL-URL:https://guarnerihall.org
X-WR-CALDESC:Events for Guarneri Hall
REFRESH-INTERVAL;VALUE=DURATION:PT1H
X-Robots-Tag:noindex
X-PUBLISHED-TTL:PT1H
BEGIN:VTIMEZONE
TZID:America/Chicago
BEGIN:DAYLIGHT
TZOFFSETFROM:-0600
TZOFFSETTO:-0500
TZNAME:CDT
DTSTART:20250309T080000
END:DAYLIGHT
BEGIN:STANDARD
TZOFFSETFROM:-0500
TZOFFSETTO:-0600
TZNAME:CST
DTSTART:20251102T070000
END:STANDARD
BEGIN:DAYLIGHT
TZOFFSETFROM:-0600
TZOFFSETTO:-0500
TZNAME:CDT
DTSTART:20260308T080000
END:DAYLIGHT
BEGIN:STANDARD
TZOFFSETFROM:-0500
TZOFFSETTO:-0600
TZNAME:CST
DTSTART:20261101T070000
END:STANDARD
BEGIN:DAYLIGHT
TZOFFSETFROM:-0600
TZOFFSETTO:-0500
TZNAME:CDT
DTSTART:20270314T080000
END:DAYLIGHT
BEGIN:STANDARD
TZOFFSETFROM:-0500
TZOFFSETTO:-0600
TZNAME:CST
DTSTART:20271107T070000
END:STANDARD
END:VTIMEZONE
BEGIN:VEVENT
DTSTART;TZID=America/Chicago:20260430T183000
DTEND;TZID=America/Chicago:20260430T200000
DTSTAMP:20260422T084425
CREATED:20250519T161104Z
LAST-MODIFIED:20260420T181014Z
UID:53990-1777573800-1777579200@guarnerihall.org
SUMMARY:Buster Keaton’s “College” (Apr 30)
DESCRIPTION:Pianist and composer Stephen Prutsman returns to Guarneri Hall for the third time\, amping up the fun for one of our most-anticipated events of the season. A Night at the Movies pairs a silent-era film comedy with a brilliant\, original film score written and performed live by Prutsman and a small ensemble. \n\n\n\n\nIn Buster Keaton’s College\, Ronald\, a nerdy scholar\, pans sports in favor of academics. This attitude wins him no points with his peers and especially coed Mary\, who favors the athletic Jeff. Ronald’s effort to win back Mary through his failed attempts at various sports is the setup for Keaton’s unique physical comedy in this hilarious film from 1927.  \n\n\n\nArtists: Stephen Prutsman\, pianist and composer\, with members of NEXUS Chamber Music: Kenneth Renshaw\, Rannveig Marta Sarc violins; Brian Hong\, viola; Alexander Hersh; cello \n\n\n\n\n\nGuarneri Hall is committed to ensuring that all our programs and activities are accessible to all audience members. Please see Accessibility at Guarneri Hall for more details\, including a short video explaining how to get to the hall.  \n\n\n\nVisit our FAQ page for general information about events.
URL:https://guarnerihall.org/event/buster-keatons-college-apr-30/
LOCATION:Guarneri Hall\, 11 East Adams\, 3rd Floor\, Chicago\, IL\, 60603\, United States
CATEGORIES:Concert,Guarneri Hall Presents
ATTACH;FMTTYPE=image/jpeg:https://guarnerihall.org/wp-content/uploads/2026-04-29-A-Night-at-the-Movies-Buster-Keaton-College.jpg
GEO:41.8793287;-87.6271441
X-APPLE-STRUCTURED-LOCATION;VALUE=URI;X-ADDRESS=Guarneri Hall 11 East Adams 3rd Floor Chicago IL 60603 United States;X-APPLE-RADIUS=500;X-TITLE=11 East Adams\, 3rd Floor:geo:-87.6271441,41.8793287
END:VEVENT
END:VCALENDAR