BEGIN:VCALENDAR
VERSION:2.0
PRODID:-//Guarneri Hall - ECPv6.15.20//NONSGML v1.0//EN
CALSCALE:GREGORIAN
METHOD:PUBLISH
X-WR-CALNAME:Guarneri Hall
X-ORIGINAL-URL:https://guarnerihall.org
X-WR-CALDESC:Events for Guarneri Hall
REFRESH-INTERVAL;VALUE=DURATION:PT1H
X-Robots-Tag:noindex
X-PUBLISHED-TTL:PT1H
BEGIN:VTIMEZONE
TZID:America/Chicago
BEGIN:DAYLIGHT
TZOFFSETFROM:-0600
TZOFFSETTO:-0500
TZNAME:CDT
DTSTART:20230312T080000
END:DAYLIGHT
BEGIN:STANDARD
TZOFFSETFROM:-0500
TZOFFSETTO:-0600
TZNAME:CST
DTSTART:20231105T070000
END:STANDARD
BEGIN:DAYLIGHT
TZOFFSETFROM:-0600
TZOFFSETTO:-0500
TZNAME:CDT
DTSTART:20240310T080000
END:DAYLIGHT
BEGIN:STANDARD
TZOFFSETFROM:-0500
TZOFFSETTO:-0600
TZNAME:CST
DTSTART:20241103T070000
END:STANDARD
BEGIN:DAYLIGHT
TZOFFSETFROM:-0600
TZOFFSETTO:-0500
TZNAME:CDT
DTSTART:20250309T080000
END:DAYLIGHT
BEGIN:STANDARD
TZOFFSETFROM:-0500
TZOFFSETTO:-0600
TZNAME:CST
DTSTART:20251102T070000
END:STANDARD
END:VTIMEZONE
BEGIN:VEVENT
DTSTART;TZID=America/Chicago:20240402T183000
DTEND;TZID=America/Chicago:20240402T203000
DTSTAMP:20260423T033903
CREATED:20230609T145234Z
LAST-MODIFIED:20241008T195351Z
UID:41083-1712082600-1712089800@guarnerihall.org
SUMMARY:George Crumb: Ancient Mysteries and the Universe of Dreams
DESCRIPTION:American composer George Crumb (1929-2022) will be the focus of an evening dedicated to his work. Scott Yoo\, conductor\, violinist\, and star of PBS’ popular series Now Hear This\, will host the program with performances by pianist Adam Neiman\, flutist Alice Dade\, members of NEXUS Chamber Music\, and members of the Grossman Ensemble. Get tickets now. \n\n\n\nGeorge Crumb expressed his ideas through extended instrumental techniques\, vivid musical dialogues\, and evocative symbolism embedded in theatrical contexts. In the process\, he forged a new means of musical messaging that would have a lasting effect on avant-garde music. The intimacy of Guarneri Hall is the perfect setting for a performance and discussion of two of Crumb’s most iconic works\, Vox Balaenae and Black Angels. \n\n\n\nRead the program notes by Linda Berna here. Read an article on Black Angels by Guarneri Hall Operations Manager\, Tanya Landau here.
URL:https://guarnerihall.org/event/george-crumb-ancient-mysteries-and-the-universe-of-dreams/
LOCATION:Guarneri Hall\, 11 East Adams\, 3rd Floor\, Chicago\, IL\, 60603\, United States
CATEGORIES:Concert,Guarneri Hall Presents
ATTACH;FMTTYPE=image/jpeg:https://guarnerihall.org/wp-content/uploads/Guarneri-Hall-George-Crumb-Concert.jpg
GEO:41.8793287;-87.6271441
X-APPLE-STRUCTURED-LOCATION;VALUE=URI;X-ADDRESS=Guarneri Hall 11 East Adams 3rd Floor Chicago IL 60603 United States;X-APPLE-RADIUS=500;X-TITLE=11 East Adams\, 3rd Floor:geo:-87.6271441,41.8793287
END:VEVENT
END:VCALENDAR