BEGIN:VCALENDAR
VERSION:2.0
PRODID:-//Guarneri Hall - ECPv6.15.20//NONSGML v1.0//EN
CALSCALE:GREGORIAN
METHOD:PUBLISH
X-WR-CALNAME:Guarneri Hall
X-ORIGINAL-URL:https://guarnerihall.org
X-WR-CALDESC:Events for Guarneri Hall
REFRESH-INTERVAL;VALUE=DURATION:PT1H
X-Robots-Tag:noindex
X-PUBLISHED-TTL:PT1H
BEGIN:VTIMEZONE
TZID:America/Chicago
BEGIN:DAYLIGHT
TZOFFSETFROM:-0600
TZOFFSETTO:-0500
TZNAME:CDT
DTSTART:20230312T080000
END:DAYLIGHT
BEGIN:STANDARD
TZOFFSETFROM:-0500
TZOFFSETTO:-0600
TZNAME:CST
DTSTART:20231105T070000
END:STANDARD
BEGIN:DAYLIGHT
TZOFFSETFROM:-0600
TZOFFSETTO:-0500
TZNAME:CDT
DTSTART:20240310T080000
END:DAYLIGHT
BEGIN:STANDARD
TZOFFSETFROM:-0500
TZOFFSETTO:-0600
TZNAME:CST
DTSTART:20241103T070000
END:STANDARD
BEGIN:DAYLIGHT
TZOFFSETFROM:-0600
TZOFFSETTO:-0500
TZNAME:CDT
DTSTART:20250309T080000
END:DAYLIGHT
BEGIN:STANDARD
TZOFFSETFROM:-0500
TZOFFSETTO:-0600
TZNAME:CST
DTSTART:20251102T070000
END:STANDARD
END:VTIMEZONE
BEGIN:VEVENT
DTSTART;TZID=America/Chicago:20240821T190000
DTEND;TZID=America/Chicago:20240821T210000
DTSTAMP:20260425T141643
CREATED:20240613T205111Z
LAST-MODIFIED:20240820T160823Z
UID:49274-1724266800-1724274000@guarnerihall.org
SUMMARY:Sonic Light (NEXUS North Shore)
DESCRIPTION:NEXUS Chamber Music has served as Guarneri Hall’s ensemble-in-residence since 2018. The 2024 NEXUS Chamber Music Festival will feature two performances at Guarneri Hall\, two rehearsals open to the public\, and an additional performance offsite in Winnetka\, Illinois. \n\n\n\n\nAbout This Event\n\n\n\nThis year\, NEXUS Chamber Music makes its debut in the village of Winnetka\, bringing their exciting programming and roster of international artists to the stunning Winnetka Congregational Church. \n\n\n\nThis event’s artists: Geneva Lewis\, Claire Bourg\, violins; Brian Hong\, viola; Alexander Hersh\, cello; Kristina Bachrach\, soprano; Adam Neiman\, Kyle Orth\, piano \n\n\n\nProgram\n\n\n\nJohannes Brahms: Zwei Gesänge\, Op. 91Augusta Read Thomas: Plea for PeaceJohann Sebastian Bach: Chorale\, “Break Forth O Beauteous Heavenly Light” Amy Beach: Piano QuintetJohann Sebastian Bach: Chorale\, “O Morning Star\, How Fair and Bright” \n\n\n\nAudience participation is invited for the two Bach chorales. Clicking or tapping the links below will open the sheet music for each one: \n\n\n\n\n\nBreak Forth O Beauteous Heavenly Light\n\n\n\n\n\nO Morning Star How Fair and Bright\n\n\n\n\n\n\n\n\n\n\n\n\n\n\n\n\n\n\n\n\n\n\n\n\n\n\n\nNote: This external event does not count toward 3- and 6-concert subscription discounts.
URL:https://guarnerihall.org/event/sonic-light-nexus-north-shore/
LOCATION:Winnetka Congregational Church\, 725 Pine St\, Winnetka\, IL\, 60093\, United States
CATEGORIES:Concert,External Event,Guarneri Hall Presents
ATTACH;FMTTYPE=image/jpeg:https://guarnerihall.org/wp-content/uploads/NEXUS-Sonic-Light-at-Guarneri-Hall.jpg
GEO:42.108762925426;-87.7314369
X-APPLE-STRUCTURED-LOCATION;VALUE=URI;X-ADDRESS=Winnetka Congregational Church 725 Pine St Winnetka IL 60093 United States;X-APPLE-RADIUS=500;X-TITLE=725 Pine St:geo:-87.7314369,42.108762925426
END:VEVENT
END:VCALENDAR